BEGIN:VCALENDAR
VERSION:2.0
PRODID:-//Bayer. Wald-Verein Sektion Spiegelau - ECPv6.15.20//NONSGML v1.0//EN
CALSCALE:GREGORIAN
METHOD:PUBLISH
X-WR-CALNAME:Bayer. Wald-Verein Sektion Spiegelau
X-ORIGINAL-URL:https://wald-verein-spiegelau.de
X-WR-CALDESC:Veranstaltungen für Bayer. Wald-Verein Sektion Spiegelau
REFRESH-INTERVAL;VALUE=DURATION:PT1H
X-Robots-Tag:noindex
X-PUBLISHED-TTL:PT1H
BEGIN:VTIMEZONE
TZID:UTC
BEGIN:STANDARD
TZOFFSETFROM:+0000
TZOFFSETTO:+0000
TZNAME:UTC
DTSTART:20250101T000000
END:STANDARD
END:VTIMEZONE
BEGIN:VEVENT
DTSTART;VALUE=DATE:20260514
DTEND;VALUE=DATE:20260515
DTSTAMP:20260420T033704
CREATED:20260412T082730Z
LAST-MODIFIED:20260412T082730Z
UID:1572-1778716800-1778803199@wald-verein-spiegelau.de
SUMMARY:Tag des Wanderns (Hauptverein) 
DESCRIPTION:
URL:https://wald-verein-spiegelau.de/veranstaltung/tag-des-wanderns-hauptverein-3
END:VEVENT
BEGIN:VEVENT
DTSTART;TZID=UTC:20260528T183000
DTEND;TZID=UTC:20260528T183000
DTSTAMP:20260420T033704
CREATED:20260412T082317Z
LAST-MODIFIED:20260412T082859Z
UID:1568-1779993000-1779993000@wald-verein-spiegelau.de
SUMMARY:Maiandacht – Kriegerkapelle Pronfelden
DESCRIPTION:
URL:https://wald-verein-spiegelau.de/veranstaltung/tag-des-wanderns-hauptverein-2
END:VEVENT
BEGIN:VEVENT
DTSTART;TZID=UTC:20260718T080000
DTEND;TZID=UTC:20260719T170000
DTSTAMP:20260420T033704
CREATED:20260412T083006Z
LAST-MODIFIED:20260412T083006Z
UID:1574-1784361600-1784480400@wald-verein-spiegelau.de
SUMMARY:Bayerwaldtag in Ebersberg/Otterskirchen
DESCRIPTION:
URL:https://wald-verein-spiegelau.de/veranstaltung/bayerwaldtag-in-ebersberg-otterskirchen
END:VEVENT
BEGIN:VEVENT
DTSTART;TZID=UTC:20260823T103000
DTEND;TZID=UTC:20260823T103000
DTSTAMP:20260420T033704
CREATED:20260412T083112Z
LAST-MODIFIED:20260412T083112Z
UID:1576-1787481000-1787481000@wald-verein-spiegelau.de
SUMMARY:Arberkirchweih an der Arberkapelle 
DESCRIPTION:
URL:https://wald-verein-spiegelau.de/veranstaltung/arberkirchweih-an-der-arberkapelle-2
END:VEVENT
BEGIN:VEVENT
DTSTART;TZID=UTC:20260919T080000
DTEND;TZID=UTC:20260919T170000
DTSTAMP:20260420T033704
CREATED:20260412T083243Z
LAST-MODIFIED:20260412T083243Z
UID:1578-1789804800-1789837200@wald-verein-spiegelau.de
SUMMARY:Schachtenpflege\, Treffpunkt in Scheuereck 
DESCRIPTION:
URL:https://wald-verein-spiegelau.de/veranstaltung/schachtenpflege-treffpunkt-in-scheuereck
END:VEVENT
BEGIN:VEVENT
DTSTART;VALUE=DATE:20260920
DTEND;VALUE=DATE:20260921
DTSTAMP:20260420T033704
CREATED:20260412T083349Z
LAST-MODIFIED:20260412T083423Z
UID:1580-1789862400-1789948799@wald-verein-spiegelau.de
SUMMARY:Lusenbergmesse 
DESCRIPTION:
URL:https://wald-verein-spiegelau.de/veranstaltung/lusenbergmesse-3
END:VEVENT
BEGIN:VEVENT
DTSTART;VALUE=DATE:20260926
DTEND;VALUE=DATE:20260927
DTSTAMP:20260420T033704
CREATED:20260412T083618Z
LAST-MODIFIED:20260412T083618Z
UID:1584-1790380800-1790467199@wald-verein-spiegelau.de
SUMMARY:Führung unterirdische Gänge Zwiesel
DESCRIPTION:
URL:https://wald-verein-spiegelau.de/veranstaltung/fuehrung-unterirdische-gaenge-zwiesel
END:VEVENT
BEGIN:VEVENT
DTSTART;TZID=UTC:20260926T083000
DTEND;TZID=UTC:20260926T170000
DTSTAMP:20260420T033704
CREATED:20260412T083528Z
LAST-MODIFIED:20260412T083528Z
UID:1582-1790411400-1790442000@wald-verein-spiegelau.de
SUMMARY:Mäharbeiten auf der Oberbreitenau\, Treffpunkt Talstation Geißkopfbahn 
DESCRIPTION:
URL:https://wald-verein-spiegelau.de/veranstaltung/maeharbeiten-auf-der-oberbreitenau-treffpunkt-talstation-geisskopfbahn
END:VEVENT
BEGIN:VEVENT
DTSTART;TZID=UTC:20261003T120000
DTEND;TZID=UTC:20261003T120000
DTSTAMP:20260420T033704
CREATED:20260412T083743Z
LAST-MODIFIED:20260412T084105Z
UID:1586-1791028800-1791028800@wald-verein-spiegelau.de
SUMMARY:Rachelbergmesse 
DESCRIPTION:
URL:https://wald-verein-spiegelau.de/veranstaltung/rachelbergmesse-4
END:VEVENT
BEGIN:VEVENT
DTSTART;VALUE=DATE:20261017
DTEND;VALUE=DATE:20261018
DTSTAMP:20260420T033704
CREATED:20260412T084152Z
LAST-MODIFIED:20260412T084152Z
UID:1588-1792195200-1792281599@wald-verein-spiegelau.de
SUMMARY:Sternwanderung zur Racheldiensthütte 
DESCRIPTION:
URL:https://wald-verein-spiegelau.de/veranstaltung/sternwanderung-zur-racheldiensthuette
END:VEVENT
BEGIN:VEVENT
DTSTART;VALUE=DATE:20261031
DTEND;VALUE=DATE:20261101
DTSTAMP:20260420T033704
CREATED:20260412T084327Z
LAST-MODIFIED:20260412T084327Z
UID:1590-1793404800-1793491199@wald-verein-spiegelau.de
SUMMARY:Hl. Messe für verstorbene Mitglieder
DESCRIPTION:
URL:https://wald-verein-spiegelau.de/veranstaltung/hl-messe-fuer-verstorbene-mitglieder
END:VEVENT
BEGIN:VEVENT
DTSTART;TZID=UTC:20261129T160000
DTEND;TZID=UTC:20261129T160000
DTSTAMP:20260420T033704
CREATED:20260412T084438Z
LAST-MODIFIED:20260412T084438Z
UID:1592-1795968000-1795968000@wald-verein-spiegelau.de
SUMMARY:55. Altbairisches Adventssingen (die Örtlichkeit wird noch bekannt gegeben)
DESCRIPTION:
URL:https://wald-verein-spiegelau.de/veranstaltung/55-altbairisches-adventssingen-die-oertlichkeit-wird-noch-bekannt-gegeben
END:VEVENT
END:VCALENDAR